BEGIN:VCALENDAR
VERSION:2.0
PRODID:SchoolNow
CALSCALE:GREGORIAN
BEGIN:VEVENT
UID:c0976614-d2be-11ef-9886-0a58a9feac02
DTSTAMP:20250722T230009Z
SUMMARY:Spirit Day: Proud American Day (wear red\, white and blue)
URL;VALUE=URI:https://www.canastotacsd.org/pses/calendar/7315724/spirit-day
 -proud-american-day-wear-red-white-and-blue
DTSTART;VALUE=DATE:20250523
DTEND;VALUE=DATE:20250524
END:VEVENT
END:VCALENDAR
