BEGIN:VCALENDAR
VERSION:2.0
PRODID:SchoolNow
CALSCALE:GREGORIAN
BEGIN:VEVENT
UID:c09767e0-d2be-11ef-bdda-0a58a9feac02
DTSTAMP:20250722T230009Z
SUMMARY:Spirit Day: Stars and Stripes Day
URL;VALUE=URI:https://www.canastotacsd.org/pses/calendar/7315725/spirit-day
 -stars-and-stripes-day
DTSTART;VALUE=DATE:20250613
DTEND;VALUE=DATE:20250614
END:VEVENT
END:VCALENDAR
