BEGIN:VCALENDAR
VERSION:2.0
PRODID:SchoolNow
CALSCALE:GREGORIAN
BEGIN:VEVENT
UID:224fa8d8-0688-11f0-8534-0afffc9b7c27
DTSTAMP:20250722T230009Z
SUMMARY:Window for April conference sign-ups via ParentSquare
URL;VALUE=URI:https://www.canastotacsd.org/pses/calendar/7740074/window-for
 -april-conference-sign-ups-via-parentsquare
DTSTART;VALUE=DATE:20250402
DTEND;VALUE=DATE:20250412
END:VEVENT
END:VCALENDAR
