BEGIN:VCALENDAR
VERSION:2.0
PRODID:SchoolNow
CALSCALE:GREGORIAN
BEGIN:VEVENT
UID:0229dfdc-08b9-11f0-953b-0e7b2c24f0dd
DTSTAMP:20250722T230009Z
SUMMARY:Annual Emergency Go Home Early Drill (15 minutes early)
URL;VALUE=URI:https://www.canastotacsd.org/pses/calendar/7760753/annual-eme
 rgency-go-home-early-drill-15-minutes-early
DTSTART;VALUE=DATE:20250417
DTEND;VALUE=DATE:20250418
END:VEVENT
END:VCALENDAR
