BEGIN:VCALENDAR
VERSION:2.0
PRODID:SchoolNow
CALSCALE:GREGORIAN
BEGIN:VEVENT
UID:ffd6b858-08eb-11f0-947e-0afffb36317b
DTSTAMP:20250722T230009Z
SUMMARY:Spring Recess
URL;VALUE=URI:https://www.canastotacsd.org/pses/calendar/7763173/spring-rec
 ess
DTSTART;VALUE=DATE:20250418
DTEND;VALUE=DATE:20250428
END:VEVENT
END:VCALENDAR
