BEGIN:VCALENDAR
VERSION:2.0
PRODID:SchoolNow
CALSCALE:GREGORIAN
BEGIN:VEVENT
UID:ffd6bcb8-08eb-11f0-bc7e-0afffb36317b
DTSTAMP:20250722T230009Z
SUMMARY:Change War: Cozy Up With a Good Book (pennies & PJ Day)
URL;VALUE=URI:https://www.canastotacsd.org/pses/calendar/7763174/change-war
 -cozy-up-with-a-good-book-pennies-pj-day
DTSTART;VALUE=DATE:20250414
DTEND;VALUE=DATE:20250415
END:VEVENT
END:VCALENDAR
