BEGIN:VCALENDAR
VERSION:2.0
PRODID:SchoolNow
CALSCALE:GREGORIAN
BEGIN:VEVENT
UID:ffd6beca-08eb-11f0-81dd-0afffb36317b
DTSTAMP:20250722T230009Z
SUMMARY:Change War: Wild About Reading (nickels & wear animal print)
URL;VALUE=URI:https://www.canastotacsd.org/pses/calendar/7763175/change-war
 -wild-about-reading-nickels-wear-animal-print
DTSTART;VALUE=DATE:20250415
DTEND;VALUE=DATE:20250416
END:VEVENT
END:VCALENDAR
