BEGIN:VCALENDAR
VERSION:2.0
PRODID:SchoolNow
CALSCALE:GREGORIAN
BEGIN:VEVENT
UID:ffd6bff6-08eb-11f0-8ce7-0afffb36317b
DTSTAMP:20250722T230009Z
SUMMARY:P/T Conferences-11:10 Dismissal
URL;VALUE=URI:https://www.canastotacsd.org/pses/calendar/7763176/p-t-confer
 ences-11-10-dismissal
DTSTART;VALUE=DATE:20250415
DTEND;VALUE=DATE:20250416
END:VEVENT
END:VCALENDAR
