BEGIN:VCALENDAR
VERSION:2.0
PRODID:SchoolNow
CALSCALE:GREGORIAN
BEGIN:VEVENT
UID:ffd6c0fa-08eb-11f0-804c-0afffb36317b
DTSTAMP:20250722T230009Z
SUMMARY:Change War: Jog Your Mind (dimes & wear sports attire)
URL;VALUE=URI:https://www.canastotacsd.org/pses/calendar/7763177/change-war
 -jog-your-mind-dimes-wear-sports-attire
DTSTART;VALUE=DATE:20250416
DTEND;VALUE=DATE:20250417
END:VEVENT
END:VCALENDAR
