BEGIN:VCALENDAR
VERSION:2.0
PRODID:SchoolNow
CALSCALE:GREGORIAN
BEGIN:VEVENT
UID:ffd6c690-08eb-11f0-b641-0afffb36317b
DTSTAMP:20250722T230009Z
SUMMARY:P/T Conferences-11:10 Dismissal
URL;VALUE=URI:https://www.canastotacsd.org/pses/calendar/7763178/p-t-confer
 ences-11-10-dismissal
DTSTART;VALUE=DATE:20250416
DTEND;VALUE=DATE:20250417
END:VEVENT
END:VCALENDAR
