BEGIN:VCALENDAR
VERSION:2.0
PRODID:SchoolNow
CALSCALE:GREGORIAN
BEGIN:VEVENT
UID:ffd6c820-08eb-11f0-a4e1-0afffb36317b
DTSTAMP:20250722T230009Z
SUMMARY:Change War: Books on the Beach (quarters & wear beach attire)
URL;VALUE=URI:https://www.canastotacsd.org/pses/calendar/7763179/change-war
 -books-on-the-beach-quarters-wear-beach-attire
DTSTART;VALUE=DATE:20250417
DTEND;VALUE=DATE:20250418
END:VEVENT
END:VCALENDAR
