BEGIN:VCALENDAR
VERSION:2.0
PRODID:SchoolNow
CALSCALE:GREGORIAN
BEGIN:VEVENT
UID:94b8530c-2cf3-11f0-bd30-0affe81273dd
DTSTAMP:20250722T230009Z
SUMMARY:Kindergarten Transition Meeting
URL;VALUE=URI:https://www.canastotacsd.org/pses/calendar/8098484/kindergart
 en-transition-meeting
DTSTART:20250515T210000Z
DTEND:20250515T220000Z
END:VEVENT
END:VCALENDAR
