BEGIN:VCALENDAR
VERSION:2.0
PRODID:SchoolNow
CALSCALE:GREGORIAN
BEGIN:VEVENT
UID:94b856f4-2cf3-11f0-a2a1-0affe81273dd
DTSTAMP:20250722T230009Z
SUMMARY:Kindergarten Cap & Gown Photos
URL;VALUE=URI:https://www.canastotacsd.org/pses/calendar/8098485/kindergart
 en-cap-gown-photos
DTSTART;VALUE=DATE:20250515
DTEND;VALUE=DATE:20250516
END:VEVENT
END:VCALENDAR
