BEGIN:VCALENDAR
VERSION:2.0
PRODID:SchoolNow
CALSCALE:GREGORIAN
BEGIN:VEVENT
UID:94b8583e-2cf3-11f0-892c-0affe81273dd
DTSTAMP:20250722T230009Z
SUMMARY:Memorial Day-No School
URL;VALUE=URI:https://www.canastotacsd.org/pses/calendar/8098486/memorial-d
 ay-no-school
DTSTART;VALUE=DATE:20250526
DTEND;VALUE=DATE:20250527
END:VEVENT
END:VCALENDAR
