BEGIN:VCALENDAR
VERSION:2.0
PRODID:SchoolNow
CALSCALE:GREGORIAN
BEGIN:VEVENT
UID:94b8594c-2cf3-11f0-9251-0affe81273dd
DTSTAMP:20250722T230009Z
SUMMARY:Half SCD (12:10 dismissal after lunch)
URL;VALUE=URI:https://www.canastotacsd.org/pses/calendar/8098487/half-scd-1
 2-10-dismissal-after-lunch
DTSTART;VALUE=DATE:20250520
DTEND;VALUE=DATE:20250521
END:VEVENT
END:VCALENDAR
