BEGIN:VCALENDAR
VERSION:2.0
PRODID:SchoolNow
CALSCALE:GREGORIAN
BEGIN:VEVENT
UID:94b85d48-2cf3-11f0-a0ff-0affe81273dd
DTSTAMP:20250722T230009Z
SUMMARY:PSES/SSES PTA Meeting
URL;VALUE=URI:https://www.canastotacsd.org/pses/calendar/8098491/pses-sses-
 pta-meeting
DTSTART:20250409T220000Z
DTEND:20250409T223000Z
END:VEVENT
END:VCALENDAR
