BEGIN:VCALENDAR
VERSION:2.0
PRODID:SchoolNow
CALSCALE:GREGORIAN
BEGIN:VEVENT
UID:94b85e42-2cf3-11f0-9587-0affe81273dd
DTSTAMP:20250722T230009Z
SUMMARY:PSES/SSES PTA Meeting
URL;VALUE=URI:https://www.canastotacsd.org/pses/calendar/8098492/pses-sses-
 pta-meeting
DTSTART:20250507T220000Z
DTEND:20250507T223000Z
END:VEVENT
END:VCALENDAR
