BEGIN:VCALENDAR
VERSION:2.0
PRODID:SchoolNow
CALSCALE:GREGORIAN
BEGIN:VEVENT
UID:91e274c2-2d26-11f0-96cd-0affe102588f
DTSTAMP:20250722T230009Z
SUMMARY:Half days all week\; dismissal @ 12:10pm
URL;VALUE=URI:https://www.canastotacsd.org/pses/calendar/8100213/half-days-
 all-week-dismissal-12-10pm
DTSTART;VALUE=DATE:20250623
DTEND;VALUE=DATE:20250628
END:VEVENT
END:VCALENDAR
