BEGIN:VCALENDAR
VERSION:2.0
PRODID:SchoolNow
CALSCALE:GREGORIAN
BEGIN:VEVENT
UID:91e2963c-2d26-11f0-8b17-0affe102588f
DTSTAMP:20250722T230009Z
SUMMARY:Last day of school!
URL;VALUE=URI:https://www.canastotacsd.org/pses/calendar/8100214/last-day-o
 f-school
DTSTART;VALUE=DATE:20250627
DTEND;VALUE=DATE:20250628
END:VEVENT
END:VCALENDAR
