BEGIN:VCALENDAR
VERSION:2.0
PRODID:SchoolNow
CALSCALE:GREGORIAN
BEGIN:VEVENT
UID:91e297e0-2d26-11f0-911b-0affe102588f
DTSTAMP:20250722T230009Z
SUMMARY:Kindergarten Graduation
URL;VALUE=URI:https://www.canastotacsd.org/pses/calendar/8100215/kindergart
 en-graduation
DTSTART;VALUE=DATE:20250618
DTEND;VALUE=DATE:20250619
END:VEVENT
END:VCALENDAR
