BEGIN:VCALENDAR
VERSION:2.0
PRODID:SchoolNow
CALSCALE:GREGORIAN
BEGIN:VEVENT
UID:72a86416-2f8a-11f0-84f4-0a58a9feac02
DTSTAMP:20250722T230009Z
SUMMARY:Kindergarten Graduation
LOCATION:Dimao Gym
URL;VALUE=URI:https://www.canastotacsd.org/pses/calendar/8121066/kindergart
 en-graduation
DTSTART:20250618T170000Z
DTEND:20250618T180000Z
END:VEVENT
END:VCALENDAR
