BEGIN:VCALENDAR
VERSION:2.0
PRODID:SchoolNow
CALSCALE:GREGORIAN
BEGIN:VEVENT
UID:d122bf80-6353-11f0-8d68-0a58a9feac02
DTSTAMP:20250722T230009Z
SUMMARY:Juneteenth\; no school
URL;VALUE=URI:https://www.canastotacsd.org/pses/calendar/8424751/juneteenth
 -no-school
DTSTART;VALUE=DATE:20260619
DTEND;VALUE=DATE:20260620
END:VEVENT
END:VCALENDAR
