BEGIN:VCALENDAR
VERSION:2.0
PRODID:SchoolNow
CALSCALE:GREGORIAN
BEGIN:VEVENT
UID:d122c0ca-6353-11f0-b0ac-0a58a9feac02
DTSTAMP:20250722T230009Z
SUMMARY:Memorial Day\; no school
URL;VALUE=URI:https://www.canastotacsd.org/pses/calendar/8424752/memorial-d
 ay-no-school
DTSTART;VALUE=DATE:20260525
DTEND;VALUE=DATE:20260526
END:VEVENT
END:VCALENDAR
