BEGIN:VCALENDAR
VERSION:2.0
PRODID:SchoolNow
CALSCALE:GREGORIAN
BEGIN:VEVENT
UID:d122c2dc-6353-11f0-acc4-0a58a9feac02
DTSTAMP:20250722T230009Z
SUMMARY:Marking Period 3 Ends
URL;VALUE=URI:https://www.canastotacsd.org/pses/calendar/8424754/marking-pe
 riod-3-ends
DTSTART;VALUE=DATE:20260413
DTEND;VALUE=DATE:20260414
END:VEVENT
END:VCALENDAR
