BEGIN:VCALENDAR
VERSION:2.0
PRODID:SchoolNow
CALSCALE:GREGORIAN
BEGIN:VEVENT
UID:d122c598-6353-11f0-86c6-0a58a9feac02
DTSTAMP:20250722T230009Z
SUMMARY:Mid-Winter Recess
URL;VALUE=URI:https://www.canastotacsd.org/pses/calendar/8424757/mid-winter
 -recess
DTSTART;VALUE=DATE:20260216
DTEND;VALUE=DATE:20260221
END:VEVENT
END:VCALENDAR
