BEGIN:VCALENDAR
VERSION:2.0
PRODID:SchoolNow
CALSCALE:GREGORIAN
BEGIN:VEVENT
UID:d122c6ba-6353-11f0-b371-0a58a9feac02
DTSTAMP:20250722T230009Z
SUMMARY:MLK Jr. Day\; no school
URL;VALUE=URI:https://www.canastotacsd.org/pses/calendar/8424758/mlk-jr-day
 -no-school
DTSTART;VALUE=DATE:20260119
DTEND;VALUE=DATE:20260120
END:VEVENT
END:VCALENDAR
