BEGIN:VCALENDAR
VERSION:2.0
PRODID:SchoolNow
CALSCALE:GREGORIAN
BEGIN:VEVENT
UID:d122c7aa-6353-11f0-b5cf-0a58a9feac02
DTSTAMP:20250722T230009Z
SUMMARY:Marking Period 2 Ends
URL;VALUE=URI:https://www.canastotacsd.org/pses/calendar/8424759/marking-pe
 riod-2-ends
DTSTART;VALUE=DATE:20260123
DTEND;VALUE=DATE:20260124
END:VEVENT
END:VCALENDAR
