BEGIN:VCALENDAR
VERSION:2.0
PRODID:SchoolNow
CALSCALE:GREGORIAN
BEGIN:VEVENT
UID:d122c890-6353-11f0-acb1-0a58a9feac02
DTSTAMP:20250722T230009Z
SUMMARY:New Year's Eve
URL;VALUE=URI:https://www.canastotacsd.org/pses/calendar/8424760/new-years-
 eve
DTSTART;VALUE=DATE:20251231
DTEND;VALUE=DATE:20260101
END:VEVENT
END:VCALENDAR
