BEGIN:VCALENDAR
VERSION:2.0
PRODID:SchoolNow
CALSCALE:GREGORIAN
BEGIN:VEVENT
UID:d122c99e-6353-11f0-83dd-0a58a9feac02
DTSTAMP:20250722T230009Z
SUMMARY:New Year's Day
URL;VALUE=URI:https://www.canastotacsd.org/pses/calendar/8424761/new-years-
 day
DTSTART;VALUE=DATE:20260101
DTEND;VALUE=DATE:20260102
END:VEVENT
END:VCALENDAR
