BEGIN:VCALENDAR
VERSION:2.0
PRODID:SchoolNow
CALSCALE:GREGORIAN
BEGIN:VEVENT
UID:d122ca84-6353-11f0-95b6-0a58a9feac02
DTSTAMP:20250722T230009Z
SUMMARY:Christmas Eve
URL;VALUE=URI:https://www.canastotacsd.org/pses/calendar/8424762/christmas-
 eve
DTSTART;VALUE=DATE:20251224
DTEND;VALUE=DATE:20251225
END:VEVENT
END:VCALENDAR
