BEGIN:VCALENDAR
VERSION:2.0
PRODID:SchoolNow
CALSCALE:GREGORIAN
BEGIN:VEVENT
UID:d122cb6a-6353-11f0-8710-0a58a9feac02
DTSTAMP:20250722T230009Z
SUMMARY:Christmas Day
URL;VALUE=URI:https://www.canastotacsd.org/pses/calendar/8424763/christmas-
 day
DTSTART;VALUE=DATE:20251225
DTEND;VALUE=DATE:20251226
END:VEVENT
END:VCALENDAR
