BEGIN:VCALENDAR
VERSION:2.0
PRODID:SchoolNow
CALSCALE:GREGORIAN
BEGIN:VEVENT
UID:d122cc5a-6353-11f0-bcd1-0a58a9feac02
DTSTAMP:20250722T230009Z
SUMMARY:Marking Period 1 Ends
URL;VALUE=URI:https://www.canastotacsd.org/pses/calendar/8424764/marking-pe
 riod-1-ends
DTSTART;VALUE=DATE:20251107
DTEND;VALUE=DATE:20251108
END:VEVENT
END:VCALENDAR
