BEGIN:VCALENDAR
VERSION:2.0
PRODID:SchoolNow
CALSCALE:GREGORIAN
BEGIN:VEVENT
UID:d122cd54-6353-11f0-ac2a-0a58a9feac02
DTSTAMP:20250722T230009Z
SUMMARY:Veterans Day\; no school
URL;VALUE=URI:https://www.canastotacsd.org/pses/calendar/8424765/veterans-d
 ay-no-school
DTSTART;VALUE=DATE:20251111
DTEND;VALUE=DATE:20251112
END:VEVENT
END:VCALENDAR
