BEGIN:VCALENDAR
VERSION:2.0
PRODID:SchoolNow
CALSCALE:GREGORIAN
BEGIN:VEVENT
UID:d122ce44-6353-11f0-9236-0a58a9feac02
DTSTAMP:20250722T230009Z
SUMMARY:Thanksgiving Recess\; no school
URL;VALUE=URI:https://www.canastotacsd.org/pses/calendar/8424766/thanksgivi
 ng-recess-no-school
DTSTART;VALUE=DATE:20251126
DTEND;VALUE=DATE:20251129
END:VEVENT
END:VCALENDAR
