BEGIN:VCALENDAR
VERSION:2.0
PRODID:SchoolNow
CALSCALE:GREGORIAN
BEGIN:VEVENT
UID:d122cf34-6353-11f0-ae84-0a58a9feac02
DTSTAMP:20250722T230009Z
SUMMARY:PSES/SSES Picture Day MakeUps
URL;VALUE=URI:https://www.canastotacsd.org/pses/calendar/8424767/pses-sses-
 picture-day-makeups
DTSTART;VALUE=DATE:20251027
DTEND;VALUE=DATE:20251028
END:VEVENT
END:VCALENDAR
