BEGIN:VCALENDAR
VERSION:2.0
PRODID:SchoolNow
CALSCALE:GREGORIAN
BEGIN:VEVENT
UID:d122d01a-6353-11f0-97f4-0a58a9feac02
DTSTAMP:20250722T230009Z
SUMMARY:Halloween
URL;VALUE=URI:https://www.canastotacsd.org/pses/calendar/8424768/halloween
DTSTART;VALUE=DATE:20251031
DTEND;VALUE=DATE:20251101
END:VEVENT
END:VCALENDAR
