BEGIN:VCALENDAR
VERSION:2.0
PRODID:SchoolNow
CALSCALE:GREGORIAN
BEGIN:VEVENT
UID:d122d100-6353-11f0-9329-0a58a9feac02
DTSTAMP:20250722T230009Z
SUMMARY:Daylight Saving Time ends
URL;VALUE=URI:https://www.canastotacsd.org/pses/calendar/8424769/daylight-s
 aving-time-ends
DTSTART;VALUE=DATE:20251102
DTEND;VALUE=DATE:20251103
END:VEVENT
END:VCALENDAR
