BEGIN:VCALENDAR
VERSION:2.0
PRODID:SchoolNow
CALSCALE:GREGORIAN
BEGIN:VEVENT
UID:d122d1f0-6353-11f0-b060-0a58a9feac02
DTSTAMP:20250722T230009Z
SUMMARY:PSES/SSES Fall Fest
URL;VALUE=URI:https://www.canastotacsd.org/pses/calendar/8424770/pses-sses-
 fall-fest
DTSTART;VALUE=DATE:20251015
DTEND;VALUE=DATE:20251016
END:VEVENT
END:VCALENDAR
