BEGIN:VCALENDAR
VERSION:2.0
PRODID:SchoolNow
CALSCALE:GREGORIAN
BEGIN:VEVENT
UID:d122d2cc-6353-11f0-bcfe-0a58a9feac02
DTSTAMP:20250722T230009Z
SUMMARY:Indigenous Peoples Day\; no school
URL;VALUE=URI:https://www.canastotacsd.org/pses/calendar/8424771/indigenous
 -peoples-day-no-school
DTSTART;VALUE=DATE:20251013
DTEND;VALUE=DATE:20251014
END:VEVENT
END:VCALENDAR
