BEGIN:VCALENDAR
VERSION:2.0
PRODID:SchoolNow
CALSCALE:GREGORIAN
BEGIN:VEVENT
UID:d122d3bc-6353-11f0-93ae-0a58a9feac02
DTSTAMP:20250722T230009Z
SUMMARY:PSES/SSES Picture Day
URL;VALUE=URI:https://www.canastotacsd.org/pses/calendar/8424772/pses-sses-
 picture-day
DTSTART;VALUE=DATE:20250915
DTEND;VALUE=DATE:20250916
END:VEVENT
END:VCALENDAR
