BEGIN:VCALENDAR
VERSION:2.0
PRODID:SchoolNow
CALSCALE:GREGORIAN
BEGIN:VEVENT
UID:d122d4a2-6353-11f0-af5e-0a58a9feac02
DTSTAMP:20250722T230009Z
SUMMARY:First Day of School
URL;VALUE=URI:https://www.canastotacsd.org/pses/calendar/8424773/first-day-
 of-school
DTSTART;VALUE=DATE:20250904
DTEND;VALUE=DATE:20250905
END:VEVENT
END:VCALENDAR
