BEGIN:VCALENDAR
VERSION:2.0
PRODID:SchoolNow
CALSCALE:GREGORIAN
BEGIN:VEVENT
UID:d122d5b0-6353-11f0-9c27-0a58a9feac02
DTSTAMP:20250722T230009Z
SUMMARY:Children's Day/Book Day
URL;VALUE=URI:https://www.canastotacsd.org/pses/calendar/8424774/childrens-
 day-book-day
DTSTART;VALUE=DATE:20250430
DTEND;VALUE=DATE:20250501
END:VEVENT
END:VCALENDAR
