BEGIN:VCALENDAR
VERSION:2.0
PRODID:SchoolNow
CALSCALE:GREGORIAN
BEGIN:VEVENT
UID:d122d696-6353-11f0-9149-0a58a9feac02
DTSTAMP:20250722T230009Z
SUMMARY:Children's Day/Book Day
URL;VALUE=URI:https://www.canastotacsd.org/pses/calendar/8424775/childrens-
 day-book-day
DTSTART;VALUE=DATE:20260430
DTEND;VALUE=DATE:20260501
END:VEVENT
END:VCALENDAR
