BEGIN:VCALENDAR
VERSION:2.0
PRODID:SchoolNow
CALSCALE:GREGORIAN
BEGIN:VEVENT
UID:9dc9d2d6-674f-11f0-bf17-0a58a9feac02
DTSTAMP:20250722T230009Z
SUMMARY:Parent/Teacher Conferences\; half day (11:10am dismissal PSES/SSES)
URL;VALUE=URI:https://www.canastotacsd.org/pses/calendar/8438351/parent-tea
 cher-conferences-half-day-11-10am-dismissal-pses-sses
DTSTART;VALUE=DATE:20260319
DTEND;VALUE=DATE:20260320
END:VEVENT
END:VCALENDAR
