BEGIN:VCALENDAR
VERSION:2.0
PRODID:SchoolNow
CALSCALE:GREGORIAN
BEGIN:VEVENT
UID:9dc9f446-674f-11f0-b992-0a58a9feac02
DTSTAMP:20250722T230009Z
SUMMARY:Kindergarten Holiday Concert Rehearsal
LOCATION:TBD
URL;VALUE=URI:https://www.canastotacsd.org/pses/calendar/8438353/kindergart
 en-holiday-concert-rehearsal
DTSTART:20251219T180000Z
DTEND:20251219T190000Z
END:VEVENT
END:VCALENDAR
