BEGIN:VCALENDAR
VERSION:2.0
PRODID:SchoolNow
CALSCALE:GREGORIAN
BEGIN:VEVENT
UID:9dc9f680-674f-11f0-8d2d-0a58a9feac02
DTSTAMP:20250722T230009Z
SUMMARY:Kindergarten Screening Week
URL;VALUE=URI:https://www.canastotacsd.org/pses/calendar/8438355/kindergart
 en-screening-week
DTSTART;VALUE=DATE:20260504
DTEND;VALUE=DATE:20260509
END:VEVENT
END:VCALENDAR
