BEGIN:VCALENDAR
VERSION:2.0
PRODID:SchoolNow
CALSCALE:GREGORIAN
BEGIN:VEVENT
UID:9dc9f86a-674f-11f0-9e20-0a58a9feac02
DTSTAMP:20250722T230009Z
SUMMARY:Kindergarten Graduation
URL;VALUE=URI:https://www.canastotacsd.org/pses/calendar/8438357/kindergart
 en-graduation
DTSTART;VALUE=DATE:20260618
DTEND;VALUE=DATE:20260619
END:VEVENT
END:VCALENDAR
